BEGIN:VCALENDAR
VERSION:2.0
PRODID:-//Croatian Mafia Cigars - ECPv6.15.20//NONSGML v1.0//EN
CALSCALE:GREGORIAN
METHOD:PUBLISH
X-WR-CALNAME:Croatian Mafia Cigars
X-ORIGINAL-URL:https://croatianmafia-cigars.com
X-WR-CALDESC:Events for Croatian Mafia Cigars
REFRESH-INTERVAL;VALUE=DURATION:PT1H
X-Robots-Tag:noindex
X-PUBLISHED-TTL:PT1H
BEGIN:VTIMEZONE
TZID:America/Chicago
BEGIN:DAYLIGHT
TZOFFSETFROM:-0600
TZOFFSETTO:-0500
TZNAME:CDT
DTSTART:20250309T080000
END:DAYLIGHT
BEGIN:STANDARD
TZOFFSETFROM:-0500
TZOFFSETTO:-0600
TZNAME:CST
DTSTART:20251102T070000
END:STANDARD
BEGIN:DAYLIGHT
TZOFFSETFROM:-0600
TZOFFSETTO:-0500
TZNAME:CDT
DTSTART:20260308T080000
END:DAYLIGHT
BEGIN:STANDARD
TZOFFSETFROM:-0500
TZOFFSETTO:-0600
TZNAME:CST
DTSTART:20261101T070000
END:STANDARD
BEGIN:DAYLIGHT
TZOFFSETFROM:-0600
TZOFFSETTO:-0500
TZNAME:CDT
DTSTART:20270314T080000
END:DAYLIGHT
BEGIN:STANDARD
TZOFFSETFROM:-0500
TZOFFSETTO:-0600
TZNAME:CST
DTSTART:20271107T070000
END:STANDARD
END:VTIMEZONE
BEGIN:VEVENT
DTSTART;VALUE=DATE:20260417
DTEND;VALUE=DATE:20260423
DTSTAMP:20260422T053513
CREATED:20260107T172034Z
LAST-MODIFIED:20260413T192236Z
UID:5343-1776384000-1776902399@croatianmafia-cigars.com
SUMMARY:PCA 2026
DESCRIPTION:
URL:https://croatianmafia-cigars.com/event/pca-2026/
LOCATION:TX
END:VEVENT
BEGIN:VEVENT
DTSTART;TZID=America/Chicago:20260423T180000
DTEND;TZID=America/Chicago:20260423T193000
DTSTAMP:20260422T053513
CREATED:20260413T192547Z
LAST-MODIFIED:20260414T171133Z
UID:5466-1776967200-1776972600@croatianmafia-cigars.com
SUMMARY:Good Cigar Business Networking
DESCRIPTION:Come discover a great opportunity to grow your business at the Good Cigar Business Networking event! \nWe will have drink and cigar specials\, as well as complementary food.
URL:https://croatianmafia-cigars.com/event/good-cigar-networking-event/
LOCATION:The Good Cigar\, 2401 Little Elm Pkwy #300\, Little Elm\, TX\, 75068\, United States
ATTACH;FMTTYPE=image/webp:https://croatianmafia-cigars.com/wp-content/uploads/2026/04/IMG_5674.webp
END:VEVENT
BEGIN:VEVENT
DTSTART;TZID=America/Chicago:20260425T140000
DTEND;TZID=America/Chicago:20260425T180000
DTSTAMP:20260422T053513
CREATED:20260414T171442Z
LAST-MODIFIED:20260414T171442Z
UID:5475-1777125600-1777140000@croatianmafia-cigars.com
SUMMARY:Republic of Texas Cigar Smokers\, 1st Annual Meet Up
DESCRIPTION:
URL:https://croatianmafia-cigars.com/event/republic-of-texas-cigar-smokers-1st-annual-meet-up/
LOCATION:Viso Cigars\, 1521 N Custer Rd STE 2850\, McKinney\, TX\, 75071\, United States
ATTACH;FMTTYPE=image/webp:https://croatianmafia-cigars.com/wp-content/uploads/2026/04/IMG_5560.webp
END:VEVENT
BEGIN:VEVENT
DTSTART;TZID=America/Chicago:20260616T140000
DTEND;TZID=America/Chicago:20260616T220000
DTSTAMP:20260422T053513
CREATED:20260413T192942Z
LAST-MODIFIED:20260413T192942Z
UID:5467-1781618400-1781647200@croatianmafia-cigars.com
SUMMARY:CMC - Croatian World Cup Meetup/Watch Party
DESCRIPTION:
URL:https://croatianmafia-cigars.com/event/cmc-croatian-world-cup-meetup-watch-party/
LOCATION:Prime XO 2.0\, 2914 Main St\, Dallas\, TX\, 75226\, United States
END:VEVENT
END:VCALENDAR